BEGIN:VCALENDAR
VERSION:2.0
PRODID:-//Darra Oxley Pony Club - ECPv4.8.0.1//NONSGML v1.0//EN
CALSCALE:GREGORIAN
METHOD:PUBLISH
X-WR-CALNAME:Darra Oxley Pony Club
X-ORIGINAL-URL:http://www.darraoxleyponyclub.org.au
X-WR-CALDESC:Events for Darra Oxley Pony Club
BEGIN:VEVENT
DTSTART;TZID=Australia/Brisbane:20190211T080000
DTEND;TZID=Australia/Brisbane:20190324T120000
DTSTAMP:20190301T170822
CREATED:20190210T195719Z
LAST-MODIFIED:20190210T195719Z
UID:629-1549872000-1553428800@www.darraoxleyponyclub.org.au
SUMMARY:March Muster with Michelle Nordling and Stephanie Forster
DESCRIPTION:all disciplines + trainee coaches \n
URL:http://www.darraoxleyponyclub.org.au/event/march-muster-with-michelle-nordling-and-stephanie-forster/
LOCATION:Darra Oxley Pony Club\, 588 Boundary Road\, Richlands\, Queensland\, 4077\, Australia
CATEGORIES:DOPC
ORGANIZER;CN="Darra-Oxley%20PC":MAILTO:Contact Us
END:VEVENT
END:VCALENDAR