BEGIN:VCALENDAR
VERSION:2.0
PRODID:-//Darra Oxley Pony Club - ECPv4.8.0.1//NONSGML v1.0//EN
CALSCALE:GREGORIAN
METHOD:PUBLISH
X-WR-CALNAME:Darra Oxley Pony Club
X-ORIGINAL-URL:http://www.darraoxleyponyclub.org.au
X-WR-CALDESC:Events for Darra Oxley Pony Club
BEGIN:VEVENT
DTSTART;TZID=Australia/Brisbane:20190512T080000
DTEND;TZID=Australia/Brisbane:20190512T120000
DTSTAMP:20190301T171256
CREATED:20190210T200525Z
LAST-MODIFIED:20190210T200525Z
UID:638-1557648000-1557662400@www.darraoxleyponyclub.org.au
SUMMARY:May Muster with Michelle Nordling and Stephanie Forster:
DESCRIPTION:all disciplines + trainee coaches \n
URL:http://www.darraoxleyponyclub.org.au/event/may-muster-with-michelle-nordling-and-stephanie-forster/
LOCATION:Darra Oxley Pony Club\, 588 Boundary Road\, Richlands\, Queensland\, 4077\, Australia
CATEGORIES:DOPC
ORGANIZER;CN="Darra-Oxley%20PC":MAILTO:Contact Us
END:VEVENT
END:VCALENDAR