BEGIN:VCALENDAR
VERSION:2.0
PRODID:-//Darra Oxley Pony Club - ECPv4.8.0.1//NONSGML v1.0//EN
CALSCALE:GREGORIAN
METHOD:PUBLISH
X-WR-CALNAME:Darra Oxley Pony Club
X-ORIGINAL-URL:http://www.darraoxleyponyclub.org.au
X-WR-CALDESC:Events for Darra Oxley Pony Club
BEGIN:VEVENT
DTSTART;TZID=Australia/Brisbane:20190224T080000
DTEND;TZID=Australia/Brisbane:20190224T093000
DTSTAMP:20190301T171418
CREATED:20190210T195510Z
LAST-MODIFIED:20190210T200244Z
UID:625-1550995200-1551000600@www.darraoxleyponyclub.org.au
SUMMARY:Muster with Michelle Nordling and Stephanie Forster
DESCRIPTION:All disciplines + trainee coaches \n
URL:http://www.darraoxleyponyclub.org.au/event/muster-with-michelle-nordling-and-stephanie-forster/
LOCATION:Darra Oxley Pony Club\, 588 Boundary Road\, Richlands\, Queensland\, 4077\, Australia
CATEGORIES:DOPC
ORGANIZER;CN="Darra-Oxley%20PC":MAILTO:Contact Us
END:VEVENT
END:VCALENDAR